BEGIN:VCALENDAR
VERSION:2.0
PRODID:-//hacksw/handcal//NONSGML v1.0//EN
BEGIN:VEVENT
SUMMARY:Randonnee des trois lacs
UID:948c40ff-7520-4365-a030-d5807f862754
DTSTART:20260418T060000Z
DTEND:20260418T150000Z
LOCATION:Localisation   
CATEGORIES:Sportif
STATUS:
DESCRIPTION:<p>Randonnee de 28km </p>
 
 <p>Repas a
 mi-chemin</p>
 
 <p>Accueil des participants a 8h, repas au port de
 Venables, retour a Tosny vers 16h30</p>
URL;VALUE=URI:https://www.cna-aviron.net/evenements/2026/04/18/randonnee-des-trois-lacs-2443030
END:VEVENT
END:VCALENDAR
